BEGIN:VCALENDAR
VERSION:2.0
PRODID:-//AfroEu Fashion: Where African Style Meets the World - ECPv6.7.0//NONSGML v1.0//EN
CALSCALE:GREGORIAN
METHOD:PUBLISH
X-WR-CALNAME:AfroEu Fashion: Where African Style Meets the World
X-ORIGINAL-URL:https://afroeufashion.com
X-WR-CALDESC:Events for AfroEu Fashion: Where African Style Meets the World
REFRESH-INTERVAL;VALUE=DURATION:PT1H
X-Robots-Tag:noindex
X-PUBLISHED-TTL:PT1H
BEGIN:VTIMEZONE
TZID:UTC
BEGIN:STANDARD
TZOFFSETFROM:+0000
TZOFFSETTO:+0000
TZNAME:UTC
DTSTART:20240101T000000
END:STANDARD
END:VTIMEZONE
BEGIN:VEVENT
DTSTART;TZID=UTC:20241005T110000
DTEND;TZID=UTC:20241005T210000
DTSTAMP:20260418T071049
CREATED:20240721T202057Z
LAST-MODIFIED:20240722T025351Z
UID:418-1728126000-1728162000@afroeufashion.com
SUMMARY:Cape Town Fashion Week
DESCRIPTION:Cape Town Fashion Week is back with an extraordinary lineup of designers\, models\, and fashion enthusiasts from around the globe. Witness stunning runway shows\, exclusive designer collections\, and engage in insightful fashion talks. Don’t miss the opportunity to be part of this iconic fashion event. \n 
URL:https://afroeufashion.com/event/cape-town-fashion-week/
ATTACH;FMTTYPE=image/jpeg:https://afroeufashion.com/wp-content/uploads/2024/07/WhatsApp-Image-2024-07-11-at-15.07.57_71616613.jpg
END:VEVENT
END:VCALENDAR