BEGIN:VCALENDAR
VERSION:2.0
PRODID:-//AfroEu Fashion: Where African Style Meets the World - ECPv6.7.0//NONSGML v1.0//EN
CALSCALE:GREGORIAN
METHOD:PUBLISH
X-WR-CALNAME:AfroEu Fashion: Where African Style Meets the World
X-ORIGINAL-URL:https://afroeufashion.com
X-WR-CALDESC:Events for AfroEu Fashion: Where African Style Meets the World
REFRESH-INTERVAL;VALUE=DURATION:PT1H
X-Robots-Tag:noindex
X-PUBLISHED-TTL:PT1H
BEGIN:VTIMEZONE
TZID:UTC
BEGIN:STANDARD
TZOFFSETFROM:+0000
TZOFFSETTO:+0000
TZNAME:UTC
DTSTART:20240101T000000
END:STANDARD
END:VTIMEZONE
BEGIN:VEVENT
DTSTART;TZID=UTC:20240815T100000
DTEND;TZID=UTC:20240815T200000
DTSTAMP:20260419T163957
CREATED:20240721T201056Z
LAST-MODIFIED:20240722T023442Z
UID:410-1723716000-1723752000@afroeufashion.com
SUMMARY:African Fashion Week Lagos
DESCRIPTION:Join us for the most anticipated fashion event of the year in Lagos. African Fashion Week Lagos showcases the best of African fashion\, with designers from across the continent presenting their latest collections. Enjoy runway shows\, exhibitions\, and networking opportunities with industry professionals.
URL:https://afroeufashion.com/event/african-fashion-week-lagos/
LOCATION:Eko Hotel and Suites\, Victoria Island\, Lagos\, Nigeria\, Lagos\, Nigeria
ATTACH;FMTTYPE=image/jpeg:https://afroeufashion.com/wp-content/uploads/2024/07/WhatsApp-Image-2024-07-11-at-15.07.55_3595364c.jpg
END:VEVENT
END:VCALENDAR